Workbook

Sheet งบแสดงฐานะการเงิน
A1: เทศบาลตำบลลานข่อย
A2: งบแสดงฐานะการเงิน
A3: ณ วันที่ 30 กันยายน 2559
F5: หมายเหตุ
A6: ทรัพย์สินตามงบทรัพย์สิน | F6: 2 | H6: 43214617
A7: สินทรัพย์
B8: สินทรัพย์สินหมุนเวียน
C9: เงินสดและเงินฝากธนาคาร | F9: 3 | H9: 19986194
C10: เงินฝาก ก.ส.อ. | H10: 0
C11: เงินฝาก ก.ส.ท. | H11: 2422392.7
C12: ลูกหนี้เงินยืม | H12: 0
C13: รายได้จากรัฐบาลค้างรับ | F13: 4 | H13: 493260
C14: ลูกหนี้ค่าภาษี | F14: 5 | H14: 141033.25
C15: ลูกหนี้รายได้อื่น ๆ | F15: 6 | H15: 156525
C16: ลูกหนี้เงินทุนโครงการเศรษฐกิจชุมชน | H16: 497000
C17: ลูกหนี้อื่น ๆ | F17: 7 | H17: 0
C18: ลูกหนี้เงินยืมเงินสะสม | H18: 706190
C19: สินทรัพย์หมุนเวียนอื่น | F19: 8
C20: รวมสินทรัพย์หมุนเวียน | H20: =SUM(H9:H19) -> 24402595
B21: สินทรัพย์ไม่หมุนเวียน
C22: หุ้นในโรงพิมพ์อาสารักษาดินแดน
C23: ทรัพย์สินเกิดจากเงินกู้ | F23: 2 | H23: 10178345
C24: สินทรัพย์ไม่หมุนเวียนอื่น | F24: 9 | H24: 1.5
C25: รวมสินทรัพย์ไม่หมุนเวียน | H25: =SUM(H23:H24) -> 10178347
A26: รวมสินทรัพย์ | H26: =SUM(H20,H25) -> 34580942
A29: หมายเหตุประกอบงบแสดงฐานะการเงินเป็นส่วนหนึ่งของงบการเงินนี้
A35: เทศบาลตำบลลานข่อย
A36: งบแสดงฐานะการเงิน
A37: ณ วันที่ 30 กันยายน 2559
F39: หมายเหตุ
A40: ทุนทรัพย์สิน | F40: 2 | H40: 43214617
A41: หนี้สิน
B42: หนี้สินหมุนเวียน
C43: รายจ่ายค้างจ่าย | F43: 10 | H43: 1804632.4
C44: ฏีกาค้างจ่าย | F44: 11 | H44: 0
C45: รายจ่ายผัดส่งใบสำคัญ | H45: 0
C46: เงินรับฝาก | F46: 12 | H46: 1264319.4
C47: หนี้สินหมุนเวียนอื่น | F47: 13 | H47: 1.01
C48: รวมหนี้สินหมุนเวียน | H48: =SUM(H43:H47) -> 3068952.8
B49: หนี้สินไม่หมุนเวียน
C50: เจ้าหนี้เงินกู้ | F50: 14 | H50: 5023345.5
C51: หนี้สินไม่หมุนเวียนอื่น | F51: 15 | H51: 0
C52: เจ้าหนี้เงินสะสม | H52: 706190
B53: รวมหนี้สินไม่หมุนเวียน | H53: =SUM(H50:H52) -> 5729535.5
B54: รวมหนี้สิน | H54: =SUM(H48,H53) -> 8798488.2
A55: เงินสะสม
B56: เงินสะสม | F56: 16 | H56: 14316645
B57: เงินทุนสำรองเงินสะสม | F57: 17 | H57: 11465808
B58: รวมเงินสะสม | H58: =SUM(H56:H57) -> 25782454
A59: รวมหนี้สินและเงินสะสม | H59: =SUM(H54,H58) -> 34580942
J60: =+H59-H26 -> 0
A62: หมายเหตุประกอบงบแสดงฐานะการเงินเป็นส่วนหนึ่งของงบการเงินนี้ | J62: =+H59-H26 -> 0

Sheet หมายเหตุ 1
A1: เทศบาลตำบลลานข่อย
A2: หมายเหตุประกอบงบแสดงฐานะการเงิน
A3: สำหรับปี สิ้นสุดวันที่ 30 กันยายน 2558
A5: ข้อมูลทั่วไป
B6: ข้อมูลทั่วไปขององค์กรปกครองส่วนท้องถิ่น
A9: หมายเหตุ 1 สรุปนโยบายการบัญชีที่สำคัญ
C10: หลักเกณฑ์ในการจัดทำงบแสดงฐานะการเงิน
C11: การบันทึกบัญชีเพื่อจัดทำงบแสดงฐานะการเงินเป็นไปตามเกณฑ์คงค้าง ตามประกาศ
A12: กระทรวงมหาดไทย เรื่อง หลักเกณฑ์และวิธีปฎิบัติการบันทึกบัญชี การจัดทำทะเบียน และรายงานการเงิน
A13: ขององค์กรปกครองส่วนท้องถิ่น เมื่อวันที่ 20 มีนาคม พ.ศ. 2558 และหนังสือสั่งการที่เกี่ยวข้อง
A15: (บันทึกใน Microsoft word)

Sheet กระดาษทำการงบทรัพย์สิน
A1: เทศบาลตำบลลานข่อย
A2: กระดาษทำการงบทรัพย์สิน
A3: ณ วันที่ 30 กันยายน 2559
A5: ประเภททรัพย์สิน | D5: ยกมา | E5: รับเพิ่ม | F5: จำหน่าย | G5: ยกไป | H5: หมายเหตุ
D6: 1 ต.ค. 2558 | E6: งบประมาณ 2559 | F6: งบประมาณ 2559 | G6: 30 ก.ย. 2559
A7: ก. | B7: อสังหาริมทรัพย์
B8: 1 | C8: ที่ดิน | D8: 1989000 | G8: =SUM(D8+E8-F8) -> 1989000
B9: 2 | C9: อาคารสำนักงาน | D9: 6149150.5 | E9: 2671200 | G9: =SUM(D9+E9-F9) -> 8820350.5 | H9: เบิกค่าก่อสร้าอาคาร สนง. 2 วงด | L9: =775000+480000+99000+2956000 -> 4310000
B10: 3 | C10: ระบบประปา | D10: 2796000 | G10: =SUM(D10+E10-F10) -> 2796000 | J10: 5144478 | L10: =+J10-L9 -> 834478
B11: 4 | C11: ทั่วไป | D11: 10169000 | G11: =SUM(D11+E11-F11) -> 10169000
B12: 5 | C12: ส้วมสาธารณะ | E12: 99000 | G12: =+E12 -> 99000
B13: 6 | C13: หอกระจายข่าว | E13: 480000 | G13: =+E13 -> 480000
B14: 7 | C14: เสาธงชาติ | E14: 775000 | G14: =+E14 -> 775000
B15: 8 | C15: อาคารศูนย์พัฒนาเด็กเล็ก | E15: 2956000 | G15: =+D15+E15 -> 2956000 | H15: เงินอุดหนุนเฉพาะกิจ | J15: =480000+775000+99000 -> 1354000
A16: ข. | B16: สังหาริมทรัพย์ | L16: =97678+337000+300800+99000 -> 834478
B17: 1 | C17: ครุภัณฑ์สำนักงาน | D17: 537360 | E17: 0 | F17: 10400 | G17: =SUM(D17+E17-F17) -> 526960 | J17: =+E17+E19+E20+E23+E27 -> 530200 | L17: =+L10-L16 -> 0
B18: 2 | C18: ครุภัณฑ์การศึกษา | D18: 99000 | F18: 1200 | G18: =SUM(D18+E18-F18) -> 97800 | J18: =2013650-70450 -> 1943200
B19: 3 | C19: ครุภัณฑ์ยานพาหนะและขนส่ง | D19: 7273020 | E19: 36500 | G19: =SUM(D19+E19-F19) -> 7309520 | J19: =+J17-J18 -> -1413000
B20: 4 | C20: ครุภัณฑ์การเกษตร | D20: 307900 | E20: =11000+11000+19500+72000 -> 113500 | F20: 3000 | G20: =SUM(D20+E20-F20) -> 418400 | H20: เงินสะสม 72,000 บาท
B21: 5 | C21: ครุภัณฑ์ก่อสร้าง | D21: 4012500 | G21: =SUM(D21+E21-F21) -> 4012500 | J21: =+E9+E11+E15 -> 5627200
B22: 6 | C22: ครุภัณฑ์ไฟฟ้าและวิทยุ | D22: 376687 | F22: 11950 | G22: =SUM(D22+E22-F22) -> 364737 | J22: =+J17+J21 -> 6157400
B23: 7 | C23: ครุภัณฑ์โฆษณาและเผยแพร่ | D23: 195840 | E23: =98800+261700 -> 360500 | G23: =SUM(D23+E23-F23) -> 556340 | K23: 72000
B24: 8 | C24: ครุภัณฑ์งานบ้านงานครัว | D24: 99700 | F24: 14500 | G24: =SUM(D24+E24-F24) -> 85200 | K24: 2671200
B25: 9 | C25: ครุภัณฑ์โรงงาน | D25: 364300 | G25: =SUM(D25+E25-F25) -> 364300 | J25: =+J22-K23-K24 -> 3414200
B26: 10 | C26: ครุภัณฑ์สำรวจ | D26: 68350 | G26: =SUM(D26+E26-F26) -> 68350
B27: 11 | C27: ครุภัณฑ์คอมพิวเตอร์ | D27: 1098160 | E27: =16000+3700 -> 19700 | F27: 4500 | G27: =SUM(D27+E27-F27) -> 1113360
B28: 12 | C28: ครุภัณฑ์อื่น | D28: 214000 | F28: 1200 | G28: =SUM(D28+E28-F28) -> 212800
C29: รวม | D29: =SUM(D8:D11,D17:D28) -> 35749967 | E29: =SUM(E8:E28) -> 7511400 | F29: =SUM(F8:F11,F17:F28) -> 46750 | G29: =SUM(G8:G28) -> 43214617
A30: ทรัพย์สินเกิดจาก
B31: 1 | C31: รายได้เทศบาล | D31: 26249322 | E31: 4768200 | F31: 46750 | G31: =SUM(D31+E31-F31) -> 30970772 | J31: 7511400 | K31: 72000 | L31: 2671200
B32: 2 | C32: เงินกู้ | D32: 7507145.5 | E32: 2671200 | G32: =SUM(D32+E32-F32) -> 10178345 | H32: ที่ดิน 4,400,000.- ถมดิน 755,000.- | J32: =+J31-K31-L31 -> 4768200
B33: 3 | C33: รับโอน(ส่วนจังหวัดภาคใต้อ่าวไทย) | D33: 1993500 | E33: 0 | G33: =SUM(D33+E33-F33) -> 1993500 | H33: อาคารสำนักงานงวด 3,4
B34: 4 | C34: เงินสะสม | E34: 72000 | G34: =+D34+E34-F34 -> 72000
D35: =SUM(D31:D33) -> 35749967 | E35: =SUM(E31:E34) -> 7511400 | F35: =SUM(F31:F33) -> 46750 | G35: =SUM(G31:G34) -> 43214617 | J35: =+G29-G35 -> 0

Sheet หมายเหตุ 2
A1: เทศบาลตำบลลานข่อย
A2: หมายเหตุประกอบงบแสดงฐานะการเงิน
A3: สำหรับปี สิ้นสุดวันที่ 30 กันยายน 2559
A5: หมายเหตุ 2 งบทรัพย์สิน
A7: ประเภททรัพย์สิน | D7: ราคาทรัพย์สิน | E7: แหล่งที่มาของทรัพย์สินทั้งหมด
E8: ชื่อ | F8: จำนวนเงิน
A9: ก. | B9: อสังหาริมทรัพย์
B10: 1 | C10: ที่ดิน | D10: =กระดาษทำการงบทรัพย์สิน!G8 -> 1989000 | E10: 1. รายได้เทศบาล | F10: =กระดาษทำการงบทรัพย์สิน!G31 -> 30970772
B11: 2 | C11: อาคารสำนักงาน | D11: =กระดาษทำการงบทรัพย์สิน!G9 -> 8820350.5 | E11: 2. เงินกู้ | F11: =SUM(กระดาษทำการงบทรัพย์สิน!G32) -> 10178345
B12: 3 | C12: ระบบประปา | D12: =กระดาษทำการงบทรัพย์สิน!G10 -> 2796000 | E12: 3. รับโอน | F12: =SUM(กระดาษทำการงบทรัพย์สิน!G33) -> 1993500
B13: 4 | C13: ทั่วไป | D13: =กระดาษทำการงบทรัพย์สิน!G11 -> 10169000 | E13: 4. เงินสะสม | F13: 72000
B14: 5 | C14: ส้วมสาธารณะ | D14: =กระดาษทำการงบทรัพย์สิน!G12 -> 99000
B15: 6 | C15: หอกระจายข่าว | D15: =กระดาษทำการงบทรัพย์สิน!G13 -> 480000
B16: 7 | C16: เสาธงชาติ | D16: =กระดาษทำการงบทรัพย์สิน!G14 -> 775000
B17: 8 | C17: อาคารศูนย์พัฒนาเด็กเล็ก | D17: =กระดาษทำการงบทรัพย์สิน!G15 -> 2956000
A18: ข. | B18: สังหาริมทรัพย์
B19: 1 | C19: ครุภัณฑ์สำนักงาน | D19: =กระดาษทำการงบทรัพย์สิน!G17 -> 526960
B20: 2 | C20: ครุภัณฑ์การศึกษา | D20: =กระดาษทำการงบทรัพย์สิน!G18 -> 97800
B21: 3 | C21: ครุภัณฑ์ยานพาหนะและขนส่ง | D21: =กระดาษทำการงบทรัพย์สิน!G19 -> 7309520
B22: 4 | C22: ครุภัณฑ์การเกษตร | D22: =กระดาษทำการงบทรัพย์สิน!G20 -> 418400
B23: 5 | C23: ครุภัณฑ์ก่อสร้าง | D23: =กระดาษทำการงบทรัพย์สิน!G21 -> 4012500
B24: 6 | C24: ครุภัณฑ์ไฟฟ้าและวิทยุ | D24: =กระดาษทำการงบทรัพย์สิน!G22 -> 364737
B25: 7 | C25: ครุภัณฑ์โฆษณาและเผยแพร่ | D25: =กระดาษทำการงบทรัพย์สิน!G23 -> 556340
B26: 8 | C26: ครุภัณฑ์งานบ้านงานครัว | D26: =กระดาษทำการงบทรัพย์สิน!G24 -> 85200
B27: 9 | C27: ครุภัณฑ์โรงงาน | D27: =กระดาษทำการงบทรัพย์สิน!G25 -> 364300
B28: 10 | C28: ครุภัณฑ์สำรวจ | D28: =กระดาษทำการงบทรัพย์สิน!G26 -> 68350
B29: 11 | C29: ครุภัณฑ์คอมพิวเตอร์ | D29: =กระดาษทำการงบทรัพย์สิน!G27 -> 1113360
B30: 12 | C30: ครุภัณฑ์อื่น | D30: =กระดาษทำการงบทรัพย์สิน!G28 -> 212800
C31: รวม | D31: =SUM(D10:D30) -> 43214617 | F31: =SUM(F10:F13,F19:F30) -> 43214617
C33: ทรัพย์สินที่แสดงตามงบทรัพย์สินเป็นกรรมสิทธิ์ของเทศบาลตำบลลานข่อย และเทศบาลตำบลลานข่อย ใช้ประโยชน์โดยตรง รวมทั้ง
A34: ทรัพย์สินที่ให้ยืม ยกเว้นทรัพย์สินที่จัดไว้เพื่อเป็นการให้บริการสาธารณะ

Sheet หมายเหตุ 3-4
A1: เทศบาลตำบลลานข่อย
A2: หมายเหตุประกอบงบแสดงฐานะการเงิน
A3: สำหรับปี สิ้นสุดวันที่ 30 กันยายน 2559
A5: หมายเหตุ 3 เงินสดและเงินฝากธนาคาร
A6: เงินสด | E6: เป็นเงิน | F6: 14100
A7: เงินฝากธนาคาร ประเภทออมทรัพย์/เผื่อเรียก
B8: - ธกส. เลขที่ 645-2-40842-7 | E8: เป็นเงิน | F8: 5798298.4
B9: - ธกส. เลขที่ 645-2-47377-9 | E9: " | F9: 33871.62
B10: - กรุงไทย เลขที่ 908-1-85799-1 | E10: " | F10: 3158029.4
B11: - กรุงไทย เลขที่ 980-3-14663-7 | E11: " | F11: 29942.92
B12: - ออมสิน เลขที่ 020087290365 | E12: " | F12: 5503235.6
B13: - กรุงไทย เลขที่ 984-0-22584-7 | E13: " | F13: 5036859.8
A14: เงินฝากธนาคาร ประเภทกระแสรายวัน
B15: - ธกส. เลขที่ 645-5-00014-9 | E15: เป็นเงิน | F15: 0
B16: - กรุงไทย เลขที่ 908-6-04521-9 | E16: " | F16: 411856.55
B17: - กรุงไทย เลขที่ 980-3-14662-9 | F17: 0
E18: รวม | F18: =SUM(F6:F17) -> 19986194 | H18: =+F18-F6 -> 19972094
A21: หมายเหตุ 4 รายได้จากรัฐบาลค้างรับ
B22: เบี้ยยังชีพผู้สูงอายุ | E22: เป็นเงิน | F22: 327100
B23: เบี้ยยังชีพผู้พิการ | E23: " | F23: 70400
B24: ค่าตอบแทนผดด. | E24: " | F24: 75200
B25: เงินเพิ่มค่าครองชีพชั่วคราวผดด. | E25: " | F25: 16000
B26: เงินประกันสังคม | E26: " | F26: 4560
E27: รวม | F27: =SUM(F22:F26) -> 493260

Sheet หมายเหตุ 5
A1: เทศบาลตำบลลานข่อย
A2: หมายเหตุประกอบงบแสดงฐานะการเงิน
A3: สำหรับปี สิ้นสุดวันที่ 30 กันยายน 2559
A5: หมายเหตุ 5 ลูกหนี้ค่าภาษี
A7: ประเภทลูกหนี้ | B7: ประจำปี | C7: จำนวนราย | D7: จำนวนเงิน
A8: ลูกหนี้ภาษีโรงเรือนและที่ดิน | B8: 2555 | C8: 2 | D8: 797 | E8: =375+422 -> 797
B9: 2558 | C9: 1 | D9: 3900
B10: 2559 | C10: 1 | D10: 14400
A11: รวม | C11: =SUM(C8:C10) -> 4 | D11: =SUM(D8:D10) -> 19097
A12: ลูกหนี้ภาษีบำรุงท้องที่ | B12: 2541 | C12: 14 | D12: 1571.3 | E12: 1654 | F12: =+E12*95/100 -> 1571.3
B13: 2542 | C13: 23 | D13: 2129.9 | E13: 2242 | F13: =+E13*95/100 -> 2129.9
B14: 2543 | C14: 25 | D14: 2299 | E14: 2420 | F14: =+E14*95/100 -> 2299
B15: 2544 | C15: 27 | D15: 2428.2 | E15: 2556 | F15: =+E15*95/100 -> 2428.2
B16: 2545 | C16: 59 | D16: 4910.55 | E16: 5169 | F16: =+E16*95/100 -> 4910.55
B17: 2546 | C17: 77 | D17: 6482.8 | E17: 6824 | F17: =+E17*95/100 -> 6482.8
B18: 2547 | C18: 93 | D18: 7386.25 | E18: 7775 | F18: =+E18*95/100 -> 7386.25
B19: 2548 | C19: 112 | D19: 8818.85 | E19: 9283 | F19: =+E19*95/100 -> 8818.85
B20: 2549 | C20: 50 | D20: 3468.45 | E20: 3651 | F20: =+E20*95/100 -> 3468.45
B21: 2550 | C21: 72 | D21: 5559.4 | E21: 5852 | F21: =+E21*95/100 -> 5559.4
B22: 2551 | C22: 110 | D22: 8294.45 | E22: 8731 | F22: =+E22*95/100 -> 8294.45
B23: 2552 | C23: 129 | D23: 9958.85 | E23: 10483 | F23: =+E23*95/100 -> 9958.85
B24: 2553 | C24: 65 | D24: 4377.6 | E24: 4608 | F24: =+E24*95/100 -> 4377.6
... B30: 2559 | C30: 231 | D30: 17151.3 | E30: 18054 | F30: =+E30*95/100 -> 17151.3
A31: รวม | C31: =SUM(C12:C30) -> 1577 | D31: =SUM(D12:D30) -> 119961.25 | E31: =SUM(E12:E30) -> 126275 | F31: =126275*95/100 -> 119961.25
A32: ลูกหนี้ภาษีป้าย | B32: 2555 | C32: 4 | D32: 800
B33: 2556 | C33: 4 | D33: 800
B34: 2559 | C34: 1 | D34: 375
A35: รวม | C35: =SUM(C32:C34) -> 9 | D35: =SUM(D32:D34) -> 1975
A36: รวมทั้งสิ้น | C36: =SUM(C11,C31,C35) -> 1590 | D36: =SUM(D11,D31,D35) -> 141033.25

Sheet หมายเหตุ 6-9
A1: เทศบาลตำบลลานข่อย
A2: หมายเหตุประกอบงบแสดงฐานะการเงิน
A3: สำหรับปี สิ้นสุดวันที่ 30 กันยายน 2559
A5: หมายเหตุ 6 ลูกหนี้รายได้อื่น ๆ
B6: ลูกหนี้ค่าน้ำประปา | E6: เป็นเงิน | F6: 156525 | G6: บาท
F7: =SUM(F6) -> 156525 | G7: "
A10: หมายเหตุ 7 ลูกหนี้อื่นๆ
B11: ลูกหนี้กองทุนหมุนเวียน | E11: เป็นเงิน | F11: 0 | G11: บาท
F12: =SUM(F11) -> 0 | G12: "
A15: หมายเหตุ 8 สินทรัพย์หมุนเวียนอื่น | E15: -
A20: หมายเหตุ 9 สินทรัพย์ไม่หมุนเวียนอื่น
B21: เงินขาดบัญชี | E21: เป็นเงิน | F21: 1.5 | G21: บาท
F22: =SUM(F21) -> 1.5 | G22: "

Sheet หมายเหตุ 10-11
A1: เทศบาลตำบลลานข่อย
A2: หมายเหตุประกอบงบแสดงฐานะการเงิน
A3: สำหรับปี สิ้นสุดวันที่ 30 กันยายน 2559
A5: หมายเหตุ 10 รายจ่ายค้างจ่าย
A7: แหล่งเงิน | B7: แผนงาน | C7: งาน | D7: หมวด | E7: ประเภท | F7: โครงการ | G7: จำนวนเงิน
A8: เงินงประมาณ | B8: การศึกษา | C8: บริหารงานทั่วไป | D8: ค่าวัสดุ | E8: อาหารเสริม(นม) | F8: จัดซื้ออาหารเสริม(นม) | G8: 319632.4
C9: เกี่ยวกับการศึกษา
A11: เงินงบประมาณ | B11: บริหารทั่วไป | C11: บริหารทั่วไป | D11: ค่าครุภัณฑ์ | E11: ครุภัณฑ์สำนักงาน | F11: จัดซื้อลิฟท์โดยสาร | G11: 1485000
F12: พร้อมติดตั้ง
A14: รวม | G14: =SUM(G8:G13) -> 1804632.4
A17: หมายเหตุ 11 ฏีกาค้างจ่าย | C17: -

Sheet หมายเหตุ 12-15
A1: เทศบาลตำบลลานข่อย
A2: หมายเหตุประกอบงบแสดงฐานะการเงิน
A3: สำหรับปี สิ้นสุดวันที่ 30 กันยายน 2559
B5: หมายเหตุ 12 เงินรับฝาก
B6: เงินฝากรับภาษีหัก ณ ที่จ่าย | E6: เป็นเงิน | F6: 7811.37 | G6: บาท
B7: เงินรับฝากค่าใช้จ่ายในการจัดเก็บภาษีบำรุงท้องที่ 5% | E7: " | F7: 43152.47 | G7: "
B8: เงินรับฝากประกันสัญญา | E8: " | F8: 418288 | G8: "
B9: เงินรับฝากประกันสังคม | E9: " | F9: 85.54 | G9: "
B10: เงินรับฝากเงินทุนโครงการเศรษฐกิจชุมชน | E10: " | F10: 617000 | G10: "
B11: เงินรับฝากเงินรอคืนจังหวัด | E11: " | F11: 83809 | G11: "
B12: เงินรับฝากอื่น | G12: "
C13: - เงินรับฝากค่าขายแบบแปลน | E13: " | F13: 76500 | G13: "
C14: - ค่าปรับหน้าฎีกา | F14: 17673
C15: รวม | F15: =SUM(F6:F14) -> 1264319.4 | G15: "
B19: หมายเหตุ 13 หนี้สินหมุนเวียนอื่น
C20: เงินเกินบัญชี | E20: เป็นเงิน | F20: 1.01 | G20: บาท
F21: =SUM(F20) -> 1.01 | G21: "
B24: หมายเหตุ 14 เจ้าหนี้เงินกู้
A26: ชื่อเจ้าหนี้ | C26: โครงการที่ขอกู้ | E26: สัญญากู้เงิน | G26: เงินต้นค้างชำระ | H26: ปีสิ้นสุดสัญญา
E27: เลขที่ | F27: ลงวันที่
A28: เงินทุนส่งเสริมกิจการ | C28: ก่อสร้าอาคารสำนักงาน | D28: 14398000 | E28: 1493/60/2558 | F28: 3 เม.ย. 2558 | G28: 5023345.5 | H28: สัญญา 10 ปี
A29: เทศบาล (ก.ส.ท.) | H29: พ.ศ. 2568
A34: รวม | D34: =SUM(D28:D33) -> 14398000 | G34: =SUM(G28:G33) -> 5023345.5
A35: ทั้งนี้ เทศบาลตำบลลานข่อย มียอดเงินที่ได้รับอนุมัติให้กู้เงินและทำสัญญากู้เงินแล้วอยู่ระหว่างการรับเงิน จำนวน | G35: 9374654.5 | H35: บาท
B38: หมายเหตุ 15 หนี้สินไม่หมุนเวียนอื่น | E38: -

Sheet หมายเหตุ 16
A1: เทศบาลตำบลลานข่อย
A2: หมายเหตุประกอบงบแสดงฐานะการเงิน
A3: สำหรับปี สิ้นสุดวันที่ 30 กันยายน 2559
A5: หมายเหตุ 16 เงินสะสม
A7: เงินสะสม 1 ตุลาคม 2559 | J7: 14097336
B8: รายรับจริงสูงกว่ารายจ่ายจริง | F8: 4572672.5
B9: หัก 25% ของรายรับจริงสูงกว่ารายจ่ายจริง
B10: (เงินทุนสำรองเงินสะสม) | F10: =SUM(F8*25/100) -> 1143168.1
A11: บวก | B11: รายรับจริงสูงกว่ารายจ่ายจริงหลังหักเงินทุนสำรองเงินสะสม | H11: =+F8-F10 -> 3429504.4
B12: รับคืนเงินอุดหนุนค่าอาหารกลางวัน | H12: 8000
B13: รับคืนเงินเบี้ยยังชีพ(ปรับปรุงบัญชี) | H13: 4445
B14: รับคืนเบี้ยยังชีพคนชรา | H14: 9600
A15: หัก | B15: จ่ายขาดเงินสะสม | H15: -3232240 | J15: =SUM(H11:H15) -> 219309.4
A16: เงินสะสม 30 กันยายน 2558 | J16: =SUM(J7:J15) -> 14316645
A19: เงินสะสม 30 กันยายน 2559 ประกอบด้วย
B20: 1 | C20: เงินฝาก ก.ส.ท. | H20: 2422392.7
B21: 2 | C21: ลูกหนี้ค่าภาษี | H21: =19097+119961.25+1975 -> 141033.25
B22: 3 | C22: ลูกหนี้รายได้อื่น ๆ | H22: 156525
B23: 4 | C23: เงินกองทุนหมุนเวียน | H23: 138460
B24: 5 | C24: ทรัพย์สินเกิดจากเงินกู้ที่ชำระหนี้แล้ว
C25: (ผลต่างระหว่างทรัพย์สินเกิดจากเงินกู้และเจ้าหนี้เงินกู้) | H25: 5155000
B26: 6 | C26: เงินสะสมทื่สามารถนำไปใช้ได้ | H26: 6303234.5
H27: =SUM(H20:H26) -> 14316645

Sheet แนบท้ายหมายเหตุ 16
A1: เทศบาลตำบลลานข่อย
A2: หมายเหตุประกอบงบแสดงฐานะการเงิน
A3: สำหรับปี สิ้นสุดวันที่ 30 กันยายน 2559
A5: รายละเอียดแนบท้ายหมายเหตุ 16 เงินสะสม
A7: หมวด | B7: ประเภท | C7: โครงการ | D7: จำนวนเงินที่ได้รับ | E7: ก่อหนี้ผูกพัน | F7: เบิกจ่ายแล้ว | G7: คงหลือ | H7: ยังไม่ก่อหนี้
D8: อนุมัติ
A9: ค่าที่ดินและสิ่งก่อสร้าง | B9: ค่าบำรุงรักษาและปรับปรุงที่ดิน | C9: - โครงการต่อเติมหอประชุมหมู่บ้าน ม.7 | D9: 129000 | E9: 128700 | F9: 128700 | G9: =D9-F9 -> 300
B10: และสิ่งก่อสร้าง
B11: ถนน | C11: - โครงการจ้างเหมาพร้อมปรับเกลี่ยแต่งบดอัด | D11: 880000 | E11: 879000 | F11: 879000 | G11: =+D11-F11 -> 1000
C12: เรียบผิวจราจรถ.สายควนยาว-ไสเพชร ม.9
B14: ค่าก่อสร้างสิ่งสาธารณูปโภค | C14: - โครงการจ้างเหมาปรับปรุงซ่อมแซมทางเข้า | D14: 133000 | E14: 132000 | F14: 132000 | G14: =+D14-F14 -> 1000
C15: ถนนสายปากทางเข้าสวนเจ้าเย็น ม.9
C17: - โครงการจ้างเหมาปรับเกลี่ยแต่งบดอัดเรียบผิว | D17: 167000 | E17: 166000 | F17: 166000 | G17: =+D17-F17 -> 1000
C18: จราจรถ.สายสำนักสงฆ์สุรินทร์ประชาสรรค์ ม.8 | G18: =+D18-F18 -> 0
C20: - โครงการจ้างเหมาวางท่อคอนกรีตเสริมเหล็กม.6 | D20: 79500 | E20: 79500 | F20: 79500 | G20: =+D20-F20 -> 0
C22: - โครงการจ้างเหมาปรับเกลี่ยแต่งบดอัดเรียบผิว | D22: 374000 | E22: 373000 | F22: 373000 | G22: =+D22-F22 -> 1000
C23: จราจรถ.สายสวนเจ้าเย็น(น้ำตกหนานปลิว) | G23: =+D23-F23 -> 0
G24: =+D24-F24 -> 0
C25: - โครงการจ้างเหมาขยายท่อเมนส่งน้ำประปา | D25: 499000 | E25: 497500 | F25: 497500 | G25: =+D25-F25 -> 1500
C26: ภูเขาบ้านสวนเจ้าเย็น ม.9 | G26: =+D26-F26 -> 0
G27: =+D27-F27 -> 0
C28: - โครงการจ้างเหมาปรับเกลี่ยแต่งบดอัดเรียบผิว | D28: 116000 | E28: 115000 | F28: 115000 | G28: =+D28-F28 -> 1000
C29: จราจรถ.สายซอยสำราญชัย-ซอยหมอแจ้ง | G29: =+D29-F29 -> 0
G30: =+D30-F30 -> 0
C31: - โครงการจ้างเหมาปรับเกลี่ยแต่งบดอัดเรียบผิว | D31: 625000 | E31: 624000 | F31: 624000 | G31: =+D31-F31 -> 1000
C32: จราจรส่วนที่เป็นหลุมเป็นบ่อพร้อมปรับระดับ
C33: เป็นบางช่วงสายบ้านห้วยหลุด-ควนแมลงภู่
C34: ม.1,2,6,4
A36: ครุภัณฑ์ | B36: ครุภัณฑ์อื่นๆ | C36: - โครงการจัดซื้อถังเก็บน้ำไฟเบอร์กลาส | D36: 72000 | E36: 72000 | F36: 72000 | G36: 0
A38: เงินเดือน(ฝ่ายประจำ) | B38: ค่าตอบแทนพนักงานจ้าง | C38: - ค่าตอบแทนพนักงานจ้าง | D38: 165540 | E38: 165540 | F38: 165540
A42: รวม | D42: =SUM(D9:D41) -> 3240040 | E42: =SUM(E9:E41) -> 3232240 | F42: =SUM(F9:F41) -> 3232240 | G42: =SUM(G9:G41) -> 7800 | H42: =SUM(H9:H41) -> 0
E53: =128700+879000+79500+1410000+569500+165540 -> 3232240

Sheet หมายเหตุ 17
A1: เทศบาลตำบลลานข่อย
A2: หมายเหตุประกอบงบแสดงฐานะการเงิน
A3: สำหรับปี สิ้นสุดวันที่ 30 กันยายน 2559
A5: หมายเหตุ 17 เงินทุนสำรองเงินสะสม
A7: หมวด | B7: ประเภท | C7: โครงการ | D7: จำนวนเงินที่ได้รับ | E7: ก่อหนี้ผูกพัน | F7: เบิกจ่ายแล้ว | G7: คงหลือ | H7: ยังไม่ก่อหนี้
D8: อนุมัติ
A10: - | B10: - | C10: - | D10: 0 | E10: 0 | F10: 0 | G10: 0 | H10: 0
A18: รวม | D18: =SUM(D9:D17) -> 0 | E18: =SUM(E9:E17) -> 0 | F18: =SUM(F9:F17) -> 0 | G18: =SUM(G9:G17) -> 0 | H18: =SUM(H9:H17) -> 0

Sheet Sheet1
